BEGIN:VCALENDAR
VERSION:2.0
PRODID:-//Squarespace Inc/Squarespace 6//v6//EN
BEGIN:VEVENT
UID:5a3038d3ec212db62fa48f5f@squarespace.com
DTSTAMP:20171212T201533Z
DTSTART:20180601T001500Z
DTEND:20180601T011500Z
SUMMARY:Lindy Hop - Intermediate (Block 4)
END:VEVENT
END:VCALENDAR
