BEGIN:VCALENDAR
VERSION:2.0
PRODID:-//Squarespace Inc/Squarespace 6//v6//EN
BEGIN:VEVENT
UID:5a303896652dea188a65c7a2@squarespace.com
DTSTAMP:20171212T201432Z
DTSTART:20180420T001500Z
DTEND:20180420T011500Z
SUMMARY:Lindy Hop - Intermediate (Block 3)
END:VEVENT
END:VCALENDAR
