BEGIN:VCALENDAR
VERSION:2.0
PRODID:-//Squarespace Inc/Squarespace 6//v6//EN
BEGIN:VEVENT
UID:5a30386e9140b7148741f5e0@squarespace.com
DTSTAMP:20171212T201358Z
DTSTART:20180309T011500Z
DTEND:20180309T021500Z
SUMMARY:Lindy Hop - Intermediate (Block 2)
END:VEVENT
END:VCALENDAR
