BEGIN:VCALENDAR
VERSION:2.0
PRODID:-//Squarespace Inc/Squarespace 6//v6//EN
BEGIN:VEVENT
UID:5a2f5032e4966bdc78f6334d@squarespace.com
DTSTAMP:20171212T203220Z
DTSTART:20180712T230000Z
DTEND:20180713T000000Z
SUMMARY:Lindy Hop - Beginner (Block 5)
END:VEVENT
END:VCALENDAR
