BEGIN:VCALENDAR
VERSION:2.0
PRODID:-//Squarespace Inc/Squarespace 6//v6//EN
BEGIN:VEVENT
UID:5a2f500bf9619a816708916f@squarespace.com
DTSTAMP:20171212T203201Z
DTSTART:20180531T230000Z
DTEND:20180601T000000Z
SUMMARY:Lindy Hop - Beginner (Block 4)
END:VEVENT
END:VCALENDAR
