BEGIN:VCALENDAR
VERSION:2.0
PRODID:-//Squarespace Inc/Squarespace 6//v6//EN
BEGIN:VEVENT
UID:5a2f4f8c8165f5f9bf673dbf@squarespace.com
DTSTAMP:20171212T202625Z
DTSTART:20180309T000000Z
DTEND:20180309T010000Z
SUMMARY:Lindy Hop - Beginner (Block 2)
END:VEVENT
END:VCALENDAR
