BEGIN:VCALENDAR
VERSION:2.0
PRODID:-//Squarespace Inc/Squarespace 6//v6//EN
BEGIN:VEVENT
UID:5a2f5574e2c48396fe024992@squarespace.com
DTSTAMP:20171212T040529Z
DTSTART:20181005T001500Z
DTEND:20181005T011500Z
SUMMARY:Balboa - Beginner (Block 7)
END:VEVENT
END:VCALENDAR
