BEGIN:VCALENDAR
VERSION:2.0
PRODID:-//Squarespace Inc/Squarespace 6//v6//EN
BEGIN:VEVENT
UID:5a2f53d9ec212d83c895808a@squarespace.com
DTSTAMP:20171212T040325Z
DTSTART:20180824T001500Z
DTEND:20180824T011500Z
SUMMARY:Balboa - Beginner (Block 6)
END:VEVENT
END:VCALENDAR
