BEGIN:VCALENDAR
VERSION:2.0
PRODID:-//Squarespace Inc/Squarespace 6//v6//EN
BEGIN:VEVENT
UID:5a2f53b324a694abf973ec0e@squarespace.com
DTSTAMP:20171212T035802Z
DTSTART:20180713T001500Z
DTEND:20180713T011500Z
SUMMARY:Balboa - Beginner (Block 5)
END:VEVENT
END:VCALENDAR
