BEGIN:VCALENDAR
VERSION:2.0
PRODID:-//Squarespace Inc/Squarespace 6//v6//EN
BEGIN:VEVENT
UID:5a2f535fec212d83c8956e8b@squarespace.com
DTSTAMP:20171212T035720Z
DTSTART:20180601T001500Z
DTEND:20180601T011500Z
SUMMARY:Balboa - Beginner (Block 4)
END:VEVENT
END:VCALENDAR
