BEGIN:VCALENDAR
VERSION:2.0
PRODID:-//Squarespace Inc/Squarespace 6//v6//EN
BEGIN:VEVENT
UID:5a2f533608522933899f2ef9@squarespace.com
DTSTAMP:20171212T035600Z
DTSTART:20180420T001500Z
DTEND:20180420T011500Z
SUMMARY:Balboa - Beginner (Block 3)
END:VEVENT
END:VCALENDAR
