BEGIN:VCALENDAR
VERSION:2.0
PRODID:-//Squarespace Inc/Squarespace 6//v6//EN
BEGIN:VEVENT
UID:5a2f5119f9619a816708bbe4@squarespace.com
DTSTAMP:20171212T035430Z
DTSTART:20180126T011500Z
DTEND:20180126T021500Z
SUMMARY:Balboa - Beginner (Block 1)
END:VEVENT
END:VCALENDAR
