BEGIN:VCALENDAR
VERSION:2.0
PRODID:-//Squarespace Inc/Squarespace 6//v6//EN
BEGIN:VEVENT
UID:5a2f4bd871c10bb71784a135@squarespace.com
DTSTAMP:20171212T202608Z
DTSTART:20180126T000000Z
DTEND:20180126T010000Z
SUMMARY:Lindy Hop - Beginner (Block 1)
END:VEVENT
END:VCALENDAR
