BEGIN:VCALENDAR
VERSION:2.0
PRODID:-//Squarespace Inc/Squarespace 6//v6//EN
BEGIN:VEVENT
UID:5a303a2d0852296a294e68b9@squarespace.com
DTSTAMP:20171212T202120Z
DTSTART:20180531T230000Z
DTEND:20180601T000000Z
SUMMARY:Balboa - Intermediate (Block 4)
END:VEVENT
END:VCALENDAR
