BEGIN:VCALENDAR
VERSION:2.0
PRODID:-//Squarespace Inc/Squarespace 6//v6//EN
BEGIN:VEVENT
UID:5a303a0553450ad241534fc4@squarespace.com
DTSTAMP:20171212T202044Z
DTSTART:20180419T230000Z
DTEND:20180420T000000Z
SUMMARY:Balboa - Intermediate (Block 3)
END:VEVENT
END:VCALENDAR
