BEGIN:VCALENDAR
VERSION:2.0
PRODID:-//Squarespace Inc/Squarespace 6//v6//EN
BEGIN:VEVENT
UID:5a3039b6e2c483ce4aed200d@squarespace.com
DTSTAMP:20171212T201936Z
DTSTART:20180309T000000Z
DTEND:20180309T010000Z
SUMMARY:Balboa - Intermediate (Block 2)
END:VEVENT
END:VCALENDAR
