BEGIN:VCALENDAR
VERSION:2.0
PRODID:-//Squarespace Inc/Squarespace 6//v6//EN
BEGIN:VEVENT
UID:5a303973c83025a17e581b02@squarespace.com
DTSTAMP:20171212T201958Z
DTSTART:20180126T000000Z
DTEND:20180126T010000Z
SUMMARY:Balboa - Intermediate (Block 1)
END:VEVENT
END:VCALENDAR
