BEGIN:VCALENDAR
VERSION:2.0
PRODID:-//Squarespace Inc/Squarespace 6//v6//EN
BEGIN:VEVENT
UID:5a2f3a7ff9619a81670503ef@squarespace.com
DTSTAMP:20171212T021033Z
DTSTART:20180821T230000Z
DTEND:20180822T000000Z
SUMMARY:Lindy Hop - Beginner (Block 6)
END:VEVENT
END:VCALENDAR
