BEGIN:VCALENDAR
VERSION:2.0
PRODID:-//Squarespace Inc/Squarespace 6//v6//EN
BEGIN:VEVENT
UID:5a2f396cec212d83c8912869@squarespace.com
DTSTAMP:20171212T020552Z
DTSTART:20180529T230000Z
DTEND:20180530T000000Z
SUMMARY:Lindy Hop - Beginner (Block 4)
END:VEVENT
END:VCALENDAR
