BEGIN:VCALENDAR
VERSION:2.0
PRODID:-//Squarespace Inc/Squarespace 6//v6//EN
BEGIN:VEVENT
UID:5a2f394f8165f5f9bf638ada@squarespace.com
DTSTAMP:20171212T020524Z
DTSTART:20180417T230000Z
DTEND:20180418T000000Z
SUMMARY:Lindy Hop - Beginner (Block 3)
END:VEVENT
END:VCALENDAR
