BEGIN:VCALENDAR
VERSION:2.0
PRODID:-//Squarespace Inc/Squarespace 6//v6//EN
BEGIN:VEVENT
UID:5a2f38bf53450aa14293b1d7@squarespace.com
DTSTAMP:20171212T020450Z
DTSTART:20180307T000000Z
DTEND:20180307T010000Z
SUMMARY:Lindy Hop - Beginner (Block 2)
END:VEVENT
END:VCALENDAR
