BEGIN:VCALENDAR
VERSION:2.0
PRODID:-//Squarespace Inc/Squarespace 6//v6//EN
BEGIN:VEVENT
UID:5a303f8753450a138b2f59fc@squarespace.com
DTSTAMP:20171212T204413Z
DTSTART:20180822T001500Z
DTEND:20180822T011500Z
SUMMARY:Lindy Hop - Intermediate (Block 6)
END:VEVENT
END:VCALENDAR
