BEGIN:VCALENDAR
VERSION:2.0
PRODID:-//Squarespace Inc/Squarespace 6//v6//EN
BEGIN:VEVENT
UID:5a303f3f0d9297b6b9f93bb0@squarespace.com
DTSTAMP:20171212T204256Z
DTSTART:20180530T001500Z
DTEND:20180530T011500Z
SUMMARY:Lindy Hop - Intermediate (Block 4)
END:VEVENT
END:VCALENDAR
