BEGIN:VCALENDAR
VERSION:2.0
PRODID:-//Squarespace Inc/Squarespace 6//v6//EN
BEGIN:VEVENT
UID:5a303efa71c10bf541e54876@squarespace.com
DTSTAMP:20171212T204147Z
DTSTART:20180418T001500Z
DTEND:20180418T011500Z
SUMMARY:Lindy Hop - Intermediate (Block 3)
END:VEVENT
END:VCALENDAR
