BEGIN:VCALENDAR
VERSION:2.0
PRODID:-//Squarespace Inc/Squarespace 6//v6//EN
BEGIN:VEVENT
UID:5a303ee1f9619abaea2d1f72@squarespace.com
DTSTAMP:20171212T204122Z
DTSTART:20180307T011500Z
DTEND:20180307T021500Z
SUMMARY:Lindy Hop - Intermediate (Block 2)
END:VEVENT
END:VCALENDAR
