BEGIN:VCALENDAR
VERSION:2.0
PRODID:-//Squarespace Inc/Squarespace 6//v6//EN
BEGIN:VEVENT
UID:5a303ea4f9619abaea2d0cec@squarespace.com
DTSTAMP:20171212T204058Z
DTSTART:20180124T011500Z
DTEND:20180124T021500Z
SUMMARY:Lindy Hop - Intermediate (Block 1)
END:VEVENT
END:VCALENDAR
