BEGIN:VCALENDAR
VERSION:2.0
PRODID:-//Squarespace Inc/Squarespace 6//v6//EN
BEGIN:VEVENT
UID:5a2df36cf9619a5b7c930674@squarespace.com
DTSTAMP:20171212T013828Z
DTSTART:20181001T230000Z
DTEND:20181002T000000Z
SUMMARY:Solo Jazz - Beginner (Block 7)
END:VEVENT
END:VCALENDAR
