BEGIN:VCALENDAR
VERSION:2.0
PRODID:-//Squarespace Inc/Squarespace 6//v6//EN
BEGIN:VEVENT
UID:5a2df255ec212d8655ea8c19@squarespace.com
DTSTAMP:20171212T013632Z
DTSTART:20180528T230000Z
DTEND:20180529T000000Z
SUMMARY:Solo Jazz - Beginner (Block 4)
END:VEVENT
END:VCALENDAR
