BEGIN:VCALENDAR
VERSION:2.0
PRODID:-//Squarespace Inc/Squarespace 6//v6//EN
BEGIN:VEVENT
UID:5a2df208e4966be66fd44495@squarespace.com
DTSTAMP:20171212T013622Z
DTSTART:20180416T230000Z
DTEND:20180417T000000Z
SUMMARY:Solo Jazz - Beginner (Block 3)
END:VEVENT
END:VCALENDAR
