BEGIN:VCALENDAR
VERSION:2.0
PRODID:-//Squarespace Inc/Squarespace 6//v6//EN
BEGIN:VEVENT
UID:5a2ddbcc71c10b8afed373d9@squarespace.com
DTSTAMP:20180103T083501Z
DTSTART:20180123T000000Z
DTEND:20180123T010000Z
SUMMARY:Solo Jazz - Beginner (Block 1)
END:VEVENT
END:VCALENDAR
