BEGIN:VCALENDAR
VERSION:2.0
PRODID:-//Squarespace Inc/Squarespace 6//v6//EN
BEGIN:VEVENT
UID:5a303e300d9297b6b9f8f15b@squarespace.com
DTSTAMP:20171212T203828Z
DTSTART:20180821T001500Z
DTEND:20180821T011500Z
SUMMARY:Solo Jazz - Intermediate (Block 6)
END:VEVENT
END:VCALENDAR
