BEGIN:VCALENDAR
VERSION:2.0
PRODID:-//Squarespace Inc/Squarespace 6//v6//EN
BEGIN:VEVENT
UID:5a303e1171c10bf541e50960@squarespace.com
DTSTAMP:20171212T203756Z
DTSTART:20180710T001500Z
DTEND:20180710T011500Z
SUMMARY:Solo Jazz - Intermediate (Block 5)
END:VEVENT
END:VCALENDAR
