BEGIN:VCALENDAR
VERSION:2.0
PRODID:-//Squarespace Inc/Squarespace 6//v6//EN
BEGIN:VEVENT
UID:5a303debc83025a17e594442@squarespace.com
DTSTAMP:20171212T203719Z
DTSTART:20180529T001500Z
DTEND:20180529T011500Z
SUMMARY:Solo Jazz - Intermediate (Block 4)
END:VEVENT
END:VCALENDAR
