BEGIN:VCALENDAR
VERSION:2.0
PRODID:-//Squarespace Inc/Squarespace 6//v6//EN
BEGIN:VEVENT
UID:5a303dc3419202e3e1319077@squarespace.com
DTSTAMP:20171212T203643Z
DTSTART:20180417T001500Z
DTEND:20180417T011500Z
SUMMARY:Solo Jazz - Intermediate (Block 3)
END:VEVENT
END:VCALENDAR
