BEGIN:VCALENDAR
VERSION:2.0
PRODID:-//Squarespace Inc/Squarespace 6//v6//EN
BEGIN:VEVENT
UID:5a303d958165f5383d79d651@squarespace.com
DTSTAMP:20171212T203557Z
DTSTART:20180306T011500Z
DTEND:20180306T021500Z
SUMMARY:Solo Jazz - Intermediate (Block 2)
END:VEVENT
END:VCALENDAR
