BEGIN:VCALENDAR
VERSION:2.0
PRODID:-//Squarespace Inc/Squarespace 6//v6//EN
BEGIN:VEVENT
UID:5a303d4ae2c483ce4aee0103@squarespace.com
DTSTAMP:20171212T203517Z
DTSTART:20180123T011500Z
DTEND:20180123T021500Z
SUMMARY:Solo Jazz - Intermediate (Block 1)
END:VEVENT
END:VCALENDAR
