BEGIN:VCALENDAR
VERSION:2.0
PRODID:-//Squarespace Inc/Squarespace 6//v6//EN
BEGIN:VEVENT
UID:5a2f3502652deae394b85d14@squarespace.com
DTSTAMP:20171212T014706Z
DTSTART:20181003T230000Z
DTEND:20181004T000000Z
SUMMARY:Lindy Hop - Beginner (Block 7)
END:VEVENT
END:VCALENDAR
