BEGIN:VCALENDAR
VERSION:2.0
PRODID:-//Squarespace Inc/Squarespace 6//v6//EN
BEGIN:VEVENT
UID:5a2f3499419202b47873c367@squarespace.com
DTSTAMP:20171212T014531Z
DTSTART:20180711T230000Z
DTEND:20180712T000000Z
SUMMARY:Lindy Hop - Beginner (Block 5)
END:VEVENT
END:VCALENDAR
