BEGIN:VCALENDAR
VERSION:2.0
PRODID:-//Squarespace Inc/Squarespace 6//v6//EN
BEGIN:VEVENT
UID:5a2f34728165f5f9bf62b054@squarespace.com
DTSTAMP:20171212T014448Z
DTSTART:20180530T230000Z
DTEND:20180531T000000Z
SUMMARY:Lindy Hop - Beginner (Block 4)
END:VEVENT
END:VCALENDAR
