BEGIN:VCALENDAR
VERSION:2.0
PRODID:-//Squarespace Inc/Squarespace 6//v6//EN
BEGIN:VEVENT
UID:5a2f33239140b7e21b5e0a9c@squarespace.com
DTSTAMP:20171212T014221Z
DTSTART:20180308T000000Z
DTEND:20180308T010000Z
SUMMARY:Lindy Hop - Beginner (Block 2)
END:VEVENT
END:VCALENDAR
