BEGIN:VCALENDAR
VERSION:2.0
PRODID:-//Squarespace Inc/Squarespace 6//v6//EN
BEGIN:VEVENT
UID:5a3040df71c10bf541e5de1a@squarespace.com
DTSTAMP:20171212T204955Z
DTSTART:20181004T001500Z
DTEND:20181004T011500Z
SUMMARY:Lindy Hop - Intermediate (Block 7)
END:VEVENT
END:VCALENDAR
