BEGIN:VCALENDAR
VERSION:2.0
PRODID:-//Squarespace Inc/Squarespace 6//v6//EN
BEGIN:VEVENT
UID:5a3040c10852296a29503d7c@squarespace.com
DTSTAMP:20171212T204923Z
DTSTART:20180823T001500Z
DTEND:20180823T011500Z
SUMMARY:Lindy Hop - Intermediate (Block 6)
END:VEVENT
END:VCALENDAR
