BEGIN:VCALENDAR
VERSION:2.0
PRODID:-//Squarespace Inc/Squarespace 6//v6//EN
BEGIN:VEVENT
UID:5a30409b71c10bf541e5c845@squarespace.com
DTSTAMP:20171212T204850Z
DTSTART:20180712T001500Z
DTEND:20180712T011500Z
SUMMARY:Lindy Hop - Intermediate (Block 5)
END:VEVENT
END:VCALENDAR
