BEGIN:VCALENDAR
VERSION:2.0
PRODID:-//Squarespace Inc/Squarespace 6//v6//EN
BEGIN:VEVENT
UID:5a30407a0852296a2950270a@squarespace.com
DTSTAMP:20171212T204813Z
DTSTART:20180531T001500Z
DTEND:20180531T011500Z
SUMMARY:Lindy Hop - Intermediate (Block 4)
END:VEVENT
END:VCALENDAR
