BEGIN:VCALENDAR
VERSION:2.0
PRODID:-//Squarespace Inc/Squarespace 6//v6//EN
BEGIN:VEVENT
UID:5a30405f652dea5926a7ddcc@squarespace.com
DTSTAMP:20171212T204744Z
DTSTART:20180419T001500Z
DTEND:20180419T011500Z
SUMMARY:Lindy Hop - Intermediate (Block 3)
END:VEVENT
END:VCALENDAR
