BEGIN:VCALENDAR
VERSION:2.0
PRODID:-//Squarespace Inc/Squarespace 6//v6//EN
BEGIN:VEVENT
UID:5a303ffd652dea5926a7bcae@squarespace.com
DTSTAMP:20171212T204643Z
DTSTART:20180125T011500Z
DTEND:20180125T021500Z
SUMMARY:Lindy Hop - Intermediate (Block 1)
END:VEVENT
END:VCALENDAR
